BEGIN:VCALENDAR
VERSION:2.0
PRODID:icalendar-ruby
CALSCALE:GREGORIAN
METHOD:PUBLISH
X-WR-CALNAME:Beresford Curling Club: Draws
BEGIN:VTIMEZONE
TZID:America/Halifax
BEGIN:DAYLIGHT
DTSTART:20260308T030000
TZOFFSETFROM:-0400
TZOFFSETTO:-0300
RRULE:FREQ=YEARLY;BYDAY=2SU;BYMONTH=3
TZNAME:ADT
END:DAYLIGHT
BEGIN:STANDARD
DTSTART:20261101T010000
TZOFFSETFROM:-0300
TZOFFSETTO:-0400
RRULE:FREQ=YEARLY;BYDAY=1SU;BYMONTH=11
TZNAME:AST
END:STANDARD
END:VTIMEZONE
BEGIN:VEVENT
DTSTAMP:20260422T191808Z
UID:drawid:209582
DTSTART:20260313T090000
DTEND:20260313T110000
DESCRIPTION:Glace 1: \, Glace 2: 
LOCATION:201\, rue de Parc E.\, Beresford\, E8K 1V9\, NB\, CA
SEQUENCE:1776885488
SUMMARY:B&C auto collision
URL;VALUE=URI:https://beresford.curling.io/fr/events/27239-b-c-auto-collisi
 on/widget
END:VEVENT
BEGIN:VEVENT
DTSTAMP:20260422T191808Z
UID:drawid:209496
DTSTART:20260317T190000
DTEND:20260317T210000
DESCRIPTION:Glace 1: Equipe/Team Fre v Equipe/team Bou\, Glace 2: Equipe/Te
 am Kod v Equipe/Team Leg
LOCATION:201\, rue de Parc E.\, Beresford\, E8K 1V9\, NB\, CA
SEQUENCE:1776885488
SUMMARY:Compétition
URL;VALUE=URI:https://beresford.curling.io/fr/events/27361-competition/widg
 et
END:VEVENT
BEGIN:VEVENT
DTSTAMP:20260422T191808Z
UID:drawid:209497
DTSTART:20260317T210000
DTEND:20260317T230000
DESCRIPTION:Glace 1: Equipe/Team Kod v Equipe/team Bou\, Glace 2: Equipe/Te
 am Fre v Equipe/Team Leg
LOCATION:201\, rue de Parc E.\, Beresford\, E8K 1V9\, NB\, CA
SEQUENCE:1776885488
SUMMARY:Compétition
URL;VALUE=URI:https://beresford.curling.io/fr/events/27361-competition/widg
 et
END:VEVENT
BEGIN:VEVENT
DTSTAMP:20260422T191808Z
UID:drawid:209498
DTSTART:20260324T190000
DTEND:20260324T210000
DESCRIPTION:Glace 1: Equipe/Team Fre v Equipe/Team Kod\, Glace 2: Equipe/Te
 am Leg v Equipe/team Bou
LOCATION:201\, rue de Parc E.\, Beresford\, E8K 1V9\, NB\, CA
SEQUENCE:1776885488
SUMMARY:Compétition
URL;VALUE=URI:https://beresford.curling.io/fr/events/27361-competition/widg
 et
END:VEVENT
END:VCALENDAR
