BEGIN:VCALENDAR
VERSION:2.0
PRODID:icalendar-ruby
CALSCALE:GREGORIAN
METHOD:PUBLISH
X-WR-CALNAME:Competitive Schedule
BEGIN:VTIMEZONE
TZID:America/Halifax
BEGIN:DAYLIGHT
DTSTART:20260308T030000
TZOFFSETFROM:-0400
TZOFFSETTO:-0300
RRULE:FREQ=YEARLY;BYDAY=2SU;BYMONTH=3
TZNAME:ADT
END:DAYLIGHT
BEGIN:STANDARD
DTSTART:20261101T010000
TZOFFSETFROM:-0300
TZOFFSETTO:-0400
RRULE:FREQ=YEARLY;BYDAY=1SU;BYMONTH=11
TZNAME:AST
END:STANDARD
END:VTIMEZONE
BEGIN:VEVENT
DTSTAMP:20260422T173904Z
UID:drawid:209496
DTSTART:20260317T190000
DTEND:20260317T210000
DESCRIPTION:Games: TBD\, TBD
LOCATION:201\, rue de Parc E.\, Beresford\, E8K 1V9\, NB\, CA
SEQUENCE:1776879544
SUMMARY:Competitive
URL;VALUE=URI:https://beresford.curling.io/en/events/27361-competitive/draw
 s
END:VEVENT
BEGIN:VEVENT
DTSTAMP:20260422T173904Z
UID:drawid:209497
DTSTART:20260317T210000
DTEND:20260317T230000
DESCRIPTION:Games: TBD\, TBD
LOCATION:201\, rue de Parc E.\, Beresford\, E8K 1V9\, NB\, CA
SEQUENCE:1776879544
SUMMARY:Competitive
URL;VALUE=URI:https://beresford.curling.io/en/events/27361-competitive/draw
 s
END:VEVENT
BEGIN:VEVENT
DTSTAMP:20260422T173904Z
UID:drawid:209498
DTSTART:20260324T190000
DTEND:20260324T210000
DESCRIPTION:Games: TBD\, TBD
LOCATION:201\, rue de Parc E.\, Beresford\, E8K 1V9\, NB\, CA
SEQUENCE:1776879544
SUMMARY:Competitive
URL;VALUE=URI:https://beresford.curling.io/en/events/27361-competitive/draw
 s
END:VEVENT
END:VCALENDAR
